BEGIN:VCALENDAR
VERSION:2.0
PRODID:DPCALENDAR
CALSCALE:GREGORIAN
BEGIN:VTIMEZONE
TZID:UTC
X-MICROSOFT-CDO-TZID:0
END:VTIMEZONE
X-WR-TIMEZONE:UTC
BEGIN:VEVENT
DTSTART;VALUE=DATE:20230320
DTEND;VALUE=DATE:20230321
UID:F93F2225-275E-4AA6-AD0B-FE9DC8F5EC05
SUMMARY:Klarsicht Parcours 3. + 4. Std. 7a; 5. + 6. Std. 7d
DTSTAMP:20221030T095907Z
DESCRIPTION:
X-ALT-DESC;FMTTYPE=text/html:
LAST-MODIFIED:20230312T175926Z
X-ACCESS:1
X-HITS:143
X-URL:
X-COLOR:3366CC
END:VEVENT
END:VCALENDAR