BEGIN:VCALENDAR
VERSION:2.0
PRODID:DPCALENDAR
CALSCALE:GREGORIAN
BEGIN:VTIMEZONE
TZID:UTC
X-MICROSOFT-CDO-TZID:0
END:VTIMEZONE
X-WR-TIMEZONE:UTC
BEGIN:VEVENT
DTSTART;VALUE=DATE:20210316
DTEND;VALUE=DATE:20210317
UID:B0A3679A-99D5-4FBB-BDA6-2FC1B78F760F
SUMMARY:15 Uhr Dienstbesprechung (Videokonferenz)
DTSTAMP:20200911T074050Z
DESCRIPTION:
X-ALT-DESC;FMTTYPE=text/html:
LAST-MODIFIED:20210314T122441Z
X-ACCESS:1
X-HITS:414
X-URL:
X-COLOR:3366CC
END:VEVENT
END:VCALENDAR