BEGIN:VCALENDAR
VERSION:2.0
PRODID:DPCALENDAR
CALSCALE:GREGORIAN
BEGIN:VTIMEZONE
TZID:UTC
X-MICROSOFT-CDO-TZID:0
END:VTIMEZONE
X-WR-TIMEZONE:UTC
BEGIN:VEVENT
DTSTART;VALUE=DATE:20200828
DTEND;VALUE=DATE:20200829
UID:F4AB37F0-C2FE-40F7-9903-32FB0E017F02
SUMMARY:Einschulung der 5. Klassen (ab 13:30 Uhr, Pausenhalle)
DTSTAMP:20200717T123823Z
DESCRIPTION:
X-ALT-DESC;FMTTYPE=text/html:
LAST-MODIFIED:20200818T072330Z
X-ACCESS:1
X-HITS:625
X-URL:
X-COLOR:3366CC
END:VEVENT
END:VCALENDAR