BEGIN:VCALENDAR
VERSION:2.0
PRODID:DPCALENDAR
CALSCALE:GREGORIAN
BEGIN:VTIMEZONE
TZID:UTC
X-MICROSOFT-CDO-TZID:0
END:VTIMEZONE
X-WR-TIMEZONE:UTC
BEGIN:VEVENT
DTSTART;VALUE=DATE:20191206
DTEND;VALUE=DATE:20191207
UID:D0210C56-157B-4ECC-8AC9-BE70EC26CFBE
SUMMARY:Vorlesewettbewerb, Jahrgang 6
DTSTAMP:20190818T141936Z
DESCRIPTION:
X-ALT-DESC;FMTTYPE=text/html:
X-ACCESS:1
X-HITS:305
X-URL:
X-COLOR:3366CC
END:VEVENT
END:VCALENDAR