BEGIN:VCALENDAR
VERSION:2.0
PRODID:DPCALENDAR
CALSCALE:GREGORIAN
BEGIN:VTIMEZONE
TZID:UTC
X-MICROSOFT-CDO-TZID:0
END:VTIMEZONE
X-WR-TIMEZONE:UTC
BEGIN:VEVENT
DTSTART;VALUE=DATE:20260513
DTEND;VALUE=DATE:20260514
UID:5CA98E5B-44C8-4093-9016-B2574DC6B6A3
SUMMARY:Abschlussprüfung 10 – Englisch
DTSTAMP:20250918T152044Z
DESCRIPTION:
X-ALT-DESC;FMTTYPE=text/html:
X-ACCESS:1
X-HITS:11
X-URL:
X-COLOR:3366CC
END:VEVENT
END:VCALENDAR